BEGIN:VCALENDAR
VERSION:2.0
PRODID:-//Highland Brewing - ECPv6.15.12.2//NONSGML v1.0//EN
CALSCALE:GREGORIAN
METHOD:PUBLISH
X-ORIGINAL-URL:https://highlandbrewing.com
X-WR-CALDESC:Events for Highland Brewing
REFRESH-INTERVAL;VALUE=DURATION:PT1H
X-Robots-Tag:noindex
X-PUBLISHED-TTL:PT1H
BEGIN:VTIMEZONE
TZID:America/New_York
BEGIN:DAYLIGHT
TZOFFSETFROM:-0500
TZOFFSETTO:-0400
TZNAME:EDT
DTSTART:20250309T070000
END:DAYLIGHT
BEGIN:STANDARD
TZOFFSETFROM:-0400
TZOFFSETTO:-0500
TZNAME:EST
DTSTART:20251102T060000
END:STANDARD
BEGIN:DAYLIGHT
TZOFFSETFROM:-0500
TZOFFSETTO:-0400
TZNAME:EDT
DTSTART:20260308T070000
END:DAYLIGHT
BEGIN:STANDARD
TZOFFSETFROM:-0400
TZOFFSETTO:-0500
TZNAME:EST
DTSTART:20261101T060000
END:STANDARD
BEGIN:DAYLIGHT
TZOFFSETFROM:-0500
TZOFFSETTO:-0400
TZNAME:EDT
DTSTART:20270314T070000
END:DAYLIGHT
BEGIN:STANDARD
TZOFFSETFROM:-0400
TZOFFSETTO:-0500
TZNAME:EST
DTSTART:20271107T060000
END:STANDARD
END:VTIMEZONE
BEGIN:VEVENT
DTSTART;TZID=America/New_York:20260405T140000
DTEND;TZID=America/New_York:20260405T170000
DTSTAMP:20260423T072018
CREATED:20260310T150714Z
LAST-MODIFIED:20260310T150714Z
UID:10027506-1775397600-1775408400@highlandbrewing.com
SUMMARY:Ashley Heath
DESCRIPTION:Ashley Heath\n\nWith a voice often described as “velvet soul\,” Asheville songwriter Ashley Heath has been winning over the hearts of Americana music lovers since she gave up her barista apron in the spring of 2015. Currently on tour in support of her sophomore album “Where Hope Never Dies\,” Heath continues to deliver her signature blend of sultry blues and anthemic rock n’ roll arrangements to clubs and festivals nationwide\, most recently appearing at acclaimed events including Merlefest\, Bonnaroo\, Shakori Hills\, and more and supporting the likes of Donna The Buffalo\, Del McCoury Band\, Anders Osborne\, Shamarr Allen (of Galactic)\, and other staples on the scene. Often compared to music influences Bonnie Raitt\, Grace Potter\, and Susan Tedeschi\, Heath still manages to find a voice all her own\, and has been recognized across Appalachia for her strong songwriting and vocal abilities\, having made the WNCW Top 100 list and Mountain Xpress “Best Of” awards several years in a row. On the heels of a jam-packed year touring throughout the American southeast and northern Europe\, and with her band “The Heathens” in tow\, Ashley Heath aims to bring her message of hope and resilience to listeners everywhere and show by example that all it takes to achieve your dreams is the belief that you are capable.
URL:https://highlandbrewing.com/calendar/ashley-heath/
LOCATION:Meadow at Highland Brewing Co.\, 12 Old Charlotte Highway\, Suite 200\, Asheville\, NC\, 28803\, United States
CATEGORIES:Live Music
ATTACH;FMTTYPE=image/png:https://highlandbrewing.com/wp-content/uploads/Ashley-Heath.png
END:VEVENT
BEGIN:VEVENT
DTSTART;TZID=America/New_York:20260403T190000
DTEND;TZID=America/New_York:20260403T210000
DTSTAMP:20260423T072018
CREATED:20260310T145507Z
LAST-MODIFIED:20260310T145507Z
UID:10027505-1775242800-1775250000@highlandbrewing.com
SUMMARY:High Flying Criminals
DESCRIPTION:FUNK – GROOVE – SOUL\nBased out of Brevard\, NC\n\nHigh Flying Criminals specialize in bringing Funk\, Soul and Groove to WNC and beyond. This dynamic group packs their high energy shows full of funky originals and a mix of some new and old-school covers. The Criminals attract fans spanning multi-generations\, and often cultivates a crowd of movers and shakers. \nThe band consists of Matt Gardner (Guitar & Lead Vocal)\, Jay Altemose (Bass & Vocal)\, Kevin Sanders (Keys)\, Evan Jacobi (sax)\, and Chris Alley (Drums). You can find their music on all streaming platforms\, as well as frequent spins on WNCW radio.
URL:https://highlandbrewing.com/calendar/high-flying-criminals/
LOCATION:Meadow at Highland Brewing Co.\, 12 Old Charlotte Highway\, Suite 200\, Asheville\, NC\, 28803\, United States
CATEGORIES:Live Music
ATTACH;FMTTYPE=image/png:https://highlandbrewing.com/wp-content/uploads/High-Flying-Resize.png
END:VEVENT
BEGIN:VEVENT
DTSTART;TZID=America/New_York:20260422T120000
DTEND;TZID=America/New_York:20260422T170000
DTSTAMP:20260423T072018
CREATED:20260212T150046Z
LAST-MODIFIED:20260212T150046Z
UID:10023279-1776859200-1776877200@highlandbrewing.com
SUMMARY:VB Pick-up
DESCRIPTION:$5 Pick-up | All-level \nPurchase wristbands and sign a waiver at the bar before getting on the court! \n 
URL:https://highlandbrewing.com/calendar/vb-tuesday-pick-up-5-2-2-2-2/2026-04-22/
LOCATION:Meadow at Highland Brewing Co.\, 12 Old Charlotte Highway\, Suite 200\, Asheville\, NC\, 28803\, United States
CATEGORIES:Recreation
ATTACH;FMTTYPE=image/jpeg:https://highlandbrewing.com/wp-content/uploads/Web-size-Volleyball-30-scaled.jpg
END:VEVENT
BEGIN:VEVENT
DTSTART;TZID=America/New_York:20260420T140000
DTEND;TZID=America/New_York:20260420T170000
DTSTAMP:20260423T072018
CREATED:20240605T163421Z
LAST-MODIFIED:20240605T163421Z
UID:10009048-1776693600-1776704400@highlandbrewing.com
SUMMARY:VB Monday Pick-up
DESCRIPTION:$5 Pick-up | 2-5pm | Purchase wristbands and sign a waiver at the bar before getting on the court!
URL:https://highlandbrewing.com/calendar/vb-monday-pick-up/2026-04-20/
LOCATION:Meadow at Highland Brewing Co.\, 12 Old Charlotte Highway\, Suite 200\, Asheville\, NC\, 28803\, United States
ATTACH;FMTTYPE=image/jpeg:https://highlandbrewing.com/wp-content/uploads/April-24-Volleyball-28-1.jpg
END:VEVENT
END:VCALENDAR